BEGIN:VCALENDAR
VERSION:2.0
PRODID:-//TYPO3/NONSGML Calendarize//EN
BEGIN:VEVENT
UID:calendarize-monatstreffen-20260616
DTSTAMP:20260423T081337Z
DTSTART:20260616T170000Z
DTEND:20260616T191500Z
SUMMARY:Monatstreffen
DESCRIPTION:
X-ALT-DESC;FMTTYPE=text/html:
LOCATION:Gaststätte "Alte Kaserne"\, Dekan-Hirtreiter-Str. 5
END:VEVENT
END:VCALENDAR
